BEGIN:VCALENDAR
METHOD:PUBLISH
PRODID:-//Weblication CMS
VERSION:2.0
BEGIN:VEVENT
SUMMARY:Metalworking &amp; Manufacturing Expo
DTSTART:20250527T000000
DTEND:20250527T235959
DESCRIPTION:
LOCATION:
UID:https://www.jrs.eu/en/filtration/events/data/metalworking-und-manufacturing-expo.php?uid=2e0343e9bde0e0bac6d2044a32d50637
URL:https://www.jrs.eu/en/filtration/events/data/metalworking-und-manufacturing-expo.php
END:VEVENT
END:VCALENDAR